BEGIN:VCALENDAR
VERSION:2.0
PRODID:-//Muzeul Național al Unirii din Alba Iulia - ECPv6.0.2//NONSGML v1.0//EN
CALSCALE:GREGORIAN
METHOD:PUBLISH
X-WR-CALNAME:Muzeul Național al Unirii din Alba Iulia
X-ORIGINAL-URL:https://mnuai.ro
X-WR-CALDESC:Events for Muzeul Național al Unirii din Alba Iulia
REFRESH-INTERVAL;VALUE=DURATION:PT1H
X-Robots-Tag:noindex
X-PUBLISHED-TTL:PT1H
BEGIN:VTIMEZONE
TZID:Europe/Bucharest
BEGIN:DAYLIGHT
TZOFFSETFROM:+0200
TZOFFSETTO:+0300
TZNAME:EEST
DTSTART:20240331T010000
END:DAYLIGHT
BEGIN:STANDARD
TZOFFSETFROM:+0300
TZOFFSETTO:+0200
TZNAME:EET
DTSTART:20241027T010000
END:STANDARD
END:VTIMEZONE
BEGIN:VEVENT
DTSTART;TZID=Europe/Bucharest:20240927T170000
DTEND;TZID=Europe/Bucharest:20240927T220000
DTSTAMP:20260421T151956
CREATED:20240919T101037Z
LAST-MODIFIED:20240924T144329Z
UID:7048-1727456400-1727474400@mnuai.ro
SUMMARY:NOAPTEA CERCETĂTORILOR EUROPENI 2024
DESCRIPTION:Știința unește oameni și idei la NOAPTEA CERCETĂTORILOR EUROPENI 2024! \nNoaptea Cercetătorilor Europeni revine pe 27 Septembrie 2024 cu o ediție captivantă\, în care cele mai multe „DE CE-uri?” își vor găsi răspunsul direct de la cercetători\, care-i vor încuraja pe vizitatori să se aventureze alături de ei în activități interactive\, descoperind împreună tainele științei. Acest eveniment unic în peisajul cultural și educațional european invită publicul să exploreze fascinanta lume a științei\, oferind celor interesați oportunitatea de a descoperi cum cercetarea științifică influențează și modelează viitorul. \nO Aventură Științifică pentru Toate Vârstele \nOrganizat în mod tradițional în ultima zi de vineri a lunii Septembrie\, Noaptea Cercetătorilor Europeni 2024 va transforma orașele din România în centre vibrante ale cunoașterii și inovației\, unde curiozitatea și pasiunea pentru știință vor fi elementele ce-i vor aduce împreună pe cercetători și publicul larg. București\, Alba Iulia\, Arad\, Bacău\, Bârlad\, Brăila\, Bumbești-Jiu\, Galați\, Hunedoara\, Oradea\, Petrila\, Ploiești\, Suceava\, Tecuci\, Timișoara și Titu vor fi gazdele evenimentelor ce-i așteaptă pe vizitatori cu o agendă bogată și diversificată de activități\, ce promit o noapte plină de surprize și descoperiri. De la experimente interactive și ateliere practice\, la conferințe și expoziții\, participanții vor avea ocazia să se întâlnească cu cercetători de renume\, să învețe despre cele mai recente progrese științifice și să se bucure de demonstrații spectaculoase. Activitățile sunt concepute pentru a stârni curiozitatea tuturor\, de la copii și adolescenți până la adulți și seniori. Toate detaliile privind programul și activitățile din fiecare oraș se regăsesc pe website-ul evenimentului: www.noapteacercetatorilor.eu. Intrarea este liberă! \nȘtiința Unește Oameni și Idei \n„Noaptea Cercetătorilor Europeni este mai mult decât un simplu eveniment: este o oportunitate unică\, atât pentru cercetători\, cât și pentru public. În era digitalului\, în care publicul larg se gândește tot mai puțin la mințile din spatele progresului tehnologic de care ne bucurăm la nivelul întregii societăți și în care oamenii de știință au nevoie de conexiune umană\, fiind tot mai mult înconjurați de robotică\, este extraordinar să vedem cum câteva ore de relaționare directă schimbă perspective de ambele părți. Participarea la acest maraton al cunoașterii face din eveniment mediul propice în care pasionații de știință experimentați îi ghidează pe cei la început de drum\, în care publicul larg înțelege mai bine impactul muncii cercetătorilor asupra vieții de zi cu zi\, în care tinerii își descoperă drumul de urmat\, iar oamenii de știință sunt inspirați de feedback-ul primit sincer și spontan din partea minților curioase din fața lor.  Noaptea Cercetătorilor Europeni 2024 va fi o experiență uimitoare pentru toți participanții\, iar singurul bilet de acces de care vor avea nevoie va fi curiozitatea.” au transmis organizatorii evenimentului. \nDespre Noaptea Cercetătorilor Europeni \nNoaptea Cercetătorilor Europeni este o inițiativă a Comisiei Europene\, înscriindu-se în seria Acțiunilor Marie Skłodowska-Curie. Evenimentul atrage anual peste 1.5 milioane vizitatori\, fiind apreciat de public\, încă de la prima ediție în anul 2005\, datorită caracterului său inovativ\, prin care știința a devenit accesibilă tuturor\, vizitatorii luând parte la activități științifice ce combină educația cu divertismentul\, organizându-se expoziții\, experimente în care publicul este implicat activ\, conferințe\, prezentări\, jocuri și concursuri. \nNoaptea Cercetătorilor Europeni 2024 se organizează în 25 țări\, iar peste 400 orașe din Europa și nu numai vor fi gazda evenimentului ce își propune să arate publicului ce înseamnă să fii cercetător și cât de interesantă poate fi munca de cercetare. \n\nNoaptea Cercetătorilor Europeni 2024 la Alba Iulia: \nProgramul:
URL:https://mnuai.ro/eveniment/noaptea-cercetatorilor-europeni-2024/
CATEGORIES:Expoziţie,Program Cultural,Proiect
ATTACH;FMTTYPE=image/jpeg:https://mnuai.ro/wp-content/uploads/2024/09/mic-scaled.jpg
END:VEVENT
END:VCALENDAR