BEGIN:VCALENDAR
VERSION:2.0
PRODID:-//Muzeul Național al Unirii din Alba Iulia - ECPv6.0.2//NONSGML v1.0//EN
CALSCALE:GREGORIAN
METHOD:PUBLISH
X-ORIGINAL-URL:https://mnuai.ro
X-WR-CALDESC:Events for Muzeul Național al Unirii din Alba Iulia
REFRESH-INTERVAL;VALUE=DURATION:PT1H
X-Robots-Tag:noindex
X-PUBLISHED-TTL:PT1H
BEGIN:VTIMEZONE
TZID:Europe/Bucharest
BEGIN:DAYLIGHT
TZOFFSETFROM:+0200
TZOFFSETTO:+0300
TZNAME:EEST
DTSTART:20260329T010000
END:DAYLIGHT
BEGIN:STANDARD
TZOFFSETFROM:+0300
TZOFFSETTO:+0200
TZNAME:EET
DTSTART:20261025T010000
END:STANDARD
END:VTIMEZONE
BEGIN:VEVENT
DTSTART;TZID=Europe/Bucharest:20260417T180000
DTEND;TZID=Europe/Bucharest:20260911T190000
DTSTAMP:20260421T160957
CREATED:20260414T095315Z
LAST-MODIFIED:20260421T100357Z
UID:8206-1776448800-1789153200@mnuai.ro
SUMMARY:Garda Apulum dă startul unui nou sezon al spectacolelor de reconstituire istorică antică
DESCRIPTION:Vineri\, 17 aprilie 2026\, la ora 18.00\, pe esplanada Porții a IV-a a Cetății Bastionare\, Garda Apulum va da startul unui nou sezon al spectacolelor de reconstituire istorică antică.\n\nSpectacolele de reconstituire istorică organizate de Garda Apulum au devenit un reper cultural constant al orașului\, desfășurându-se în mod regulat în sezonul aprilie–septembrie și atrăgând\, de fiecare dată\, un public numeros. Garda Apulum este o trupă de reconstituie istorică antică apărută în urma unui proiect inițiat de Muzeul Național al Unirii Alba Iulia în anul 2012 și este compusă din patru formații – Legiunea XIII Gemina\, Lupii Apoulonului\, Ludus Apulensis și Magna Nemesis.\n\nFormațiile sunt alcătuite din voluntari albaiulieni care încercă să reconstituie aspecte militare și civile ale istoriei daco-romane\, având accentul pus pe promovarea patrimoniului local.\n\nAnul acesta\, Garda Apulum va împlini 14 ani de activitate\, perioadă în care a susținut sute de reprezentații și a devenit un adevărat brand cultural al municipiului Alba Iulia\, reunind zeci de voluntari pasionați de istorie.\n\nEvenimentul din 17 aprilie 2026\, care va deschide al XIII-lea sezon de reprezentații cu Garda Apulum LA Alba Iulia\, va aduce în fața publicului demonstrații militare\, echipamente autentice și momente spectaculoase inspirate din viața soldaților romani și a civilizațiilor antice. Participanții vor putea descoperi\, într-un mod interactiv\, istoria locului unde a funcționat odinioară unul dintre cele mai importante centre ale Daciei romane.\n\nReprezentația este organizată de Consiliul Județean Alba\, Muzeul Național al Unirii Alba Iulia\, Primăria Municipiului Alba Iulia\, Centrul Cultural Palatul Principilor cu sprijinul ELIT S.R.L. contribuind la promovarea patrimoniului istoric și turistic al orașului Alba Iulia.
URL:https://mnuai.ro/eveniment/garda-apulum-da-startul-unui-nou-sezon-al-spectacolelor-de-reconstituire-istorica-antica/
LOCATION:Esplanada Porții a IV-a a Cetății Bastionare\, Alba Iulia
CATEGORIES:Program Cultural,Proiect,Reconstituiri istorice,Reenacmente
ATTACH;FMTTYPE=image/jpeg:https://mnuai.ro/wp-content/uploads/2026/04/AFIS-REPREZENTATIE-GARDA-17-APRILIE-2026-3-scaled.jpg
END:VEVENT
END:VCALENDAR