BEGIN:VCALENDAR
VERSION:2.0
PRODID:-//Muzeul Național al Unirii din Alba Iulia - ECPv6.0.2//NONSGML v1.0//EN
CALSCALE:GREGORIAN
METHOD:PUBLISH
X-WR-CALNAME:Muzeul Național al Unirii din Alba Iulia
X-ORIGINAL-URL:https://mnuai.ro
X-WR-CALDESC:Events for Muzeul Național al Unirii din Alba Iulia
REFRESH-INTERVAL;VALUE=DURATION:PT1H
X-Robots-Tag:noindex
X-PUBLISHED-TTL:PT1H
BEGIN:VTIMEZONE
TZID:Europe/Bucharest
BEGIN:DAYLIGHT
TZOFFSETFROM:+0200
TZOFFSETTO:+0300
TZNAME:EEST
DTSTART:20160327T010000
END:DAYLIGHT
BEGIN:STANDARD
TZOFFSETFROM:+0300
TZOFFSETTO:+0200
TZNAME:EET
DTSTART:20161030T010000
END:STANDARD
END:VTIMEZONE
BEGIN:VEVENT
DTSTART;TZID=Europe/Bucharest:20161117T110000
DTEND;TZID=Europe/Bucharest:20161118T170000
DTSTAMP:20260421T073714
CREATED:20161114T130808Z
LAST-MODIFIED:20161116T192827Z
UID:2019-1479380400-1479488400@mnuai.ro
SUMMARY:Sesiunea Ştiinţifică  “Unitate\, Continuitate şi Independenţă în Istoria Poporului Român. 98 de ani de la Marea unire (1918-2016)”
DESCRIPTION:Joi\, 17 noiembrie 2016\, de la ora 11.00\, la Sala Unirii din Alba Iulia va avea loc deschiderea oficială a Sesiunii Ştiinţifice a Muzeului Naţional al Unirii Alba Iulia „Unitate\, Continuitate şi Independenţă în Istoria Poporului Român. 98 de ani de la Marea Unire (1918-2016)”. \nLa eveniment vor participa peste 100 de specialişti din instituţii muzeale şi universitare din întreaga ţară: Alba Iulia\, Bucureşti\, Deva\, Cluj-Napoca\, Timişoara\, Reşiţa\, Satu Mare\, Sibiu\, Zalău\, Suceava\, Târgu Mureş\, Craiova\, Iaşi\, Sinaia\, Braşov şi Ploieşti. \nÎn cadrul evenimentului vor fi lansate şi două volume de carte\, respectiv volumul Apulum LIII-series Archaeologica et Anthropologica şi N. Gudea\, M. Zahariade\, Graniţa de nord a Daciei Ripensis\, editura Hackert\, Nederland\, 2016.
URL:https://mnuai.ro/eveniment/sesiunea-stiintifica-unitate-continuitate-si-independenta-in-istoria-poporului-roman-98-de-ani-de-la-marea-unire-1918-2016/
LOCATION:Muzeul Naţional al Unirii Alba Iulia
CATEGORIES:Eveniment
ATTACH;FMTTYPE=image/jpeg:https://mnuai.ro/wp-content/uploads/2016/11/afis-2016-noiembrie-sesiunea-stiintifica-BUN-scaled.jpg
ORGANIZER;CN="Muzeul%20Na%C8%9Bional%20al%20Unirii%20Alba%20Iulia":MAILTO:contact@mnuai.ro
END:VEVENT
END:VCALENDAR