BEGIN:VCALENDAR
VERSION:2.0
PRODID:-//Muzeul Național al Unirii din Alba Iulia - ECPv6.0.2//NONSGML v1.0//EN
CALSCALE:GREGORIAN
METHOD:PUBLISH
X-WR-CALNAME:Muzeul Național al Unirii din Alba Iulia
X-ORIGINAL-URL:https://mnuai.ro
X-WR-CALDESC:Events for Muzeul Național al Unirii din Alba Iulia
REFRESH-INTERVAL;VALUE=DURATION:PT1H
X-Robots-Tag:noindex
X-PUBLISHED-TTL:PT1H
BEGIN:VTIMEZONE
TZID:Europe/Bucharest
BEGIN:DAYLIGHT
TZOFFSETFROM:+0200
TZOFFSETTO:+0300
TZNAME:EEST
DTSTART:20160327T010000
END:DAYLIGHT
BEGIN:STANDARD
TZOFFSETFROM:+0300
TZOFFSETTO:+0200
TZNAME:EET
DTSTART:20161030T010000
END:STANDARD
END:VTIMEZONE
BEGIN:VEVENT
DTSTART;TZID=Europe/Bucharest:20161002T110000
DTEND;TZID=Europe/Bucharest:20161031T170000
DTSTAMP:20260421T055743
CREATED:20161014T114555Z
LAST-MODIFIED:20161014T114555Z
UID:1950-1475406000-1477933200@mnuai.ro
SUMMARY:Exponatul lunii octombrie 2016 „Plachetele regale”
DESCRIPTION: Marti\, 4 octombrie\, ora 11\, Muzeul Naţional al Unirii Alba Iulia vernisează exponatul lunii „Plachetele regale”.\n\n   Aceste plachete înfăţişându-i pe suveranii României Întregite\, Ferdinand I şi Maria\, au fost puse în vanzare cu ocazia evenimentelor Încoronării din 15 octombrie 1922 de la Alba Iulia. Confecţionate din teracotă de culoare albă erau destinate uzului popular avand preţul de „63 de lei părechea” cum apar la rubrica de mica publicitate din ziarul „Vestea” din 10 octombrie 1922.\n    Evenimentul este organizat de Consiliul Judeţean Alba\, Direcţia Judeţeană pentru Cultură Alba\, Muzeul Naţional al Unirii Alba Iulia
URL:https://mnuai.ro/eveniment/exponatul-lunii-octombrie-2016-plachetele-regale/
LOCATION:Muzeul Naţional al Unirii Alba Iulia
CATEGORIES:Expoziții
ATTACH;FMTTYPE=image/jpeg:https://mnuai.ro/wp-content/uploads/2016/10/afis-2016-octombrie-exponatul-lunii-octombrie-2.jpg
ORGANIZER;CN="Muzeul%20Na%C8%9Bional%20al%20Unirii%20Alba%20Iulia":MAILTO:contact@mnuai.ro
END:VEVENT
BEGIN:VEVENT
DTSTART;TZID=Europe/Bucharest:20160930T170000
DTEND;TZID=Europe/Bucharest:20160930T220000
DTSTAMP:20260421T055743
CREATED:20160922T082049Z
LAST-MODIFIED:20160928T151504Z
UID:1423-1475254800-1475272800@mnuai.ro
SUMMARY:Noaptea Cercetătorilor
DESCRIPTION: \nActivitate\nLocul desfășurării\n\n\n1.\nCercetarea criminalistică și profesia de polițist (ora 17:00)\nStr. Muzeului\n\n\n2.\nAtelier de icoane (ora 17:00)\nExpoziția de Etnografie de la Sala Unirii\n\n\n3.\nAtelier de cusături traditionale (ora 17:00)\nExpoziția de Etnografie de la Sala Unirii\n\n\n4.\nAtelier de monetărie antică (ora 20:00)\nStr. Muzeului\n\n\n5.\nAtelier de scriptoria (ora 20:00)\nStr. Muzeului\n\n\n6.\nAtelier de prelucrare os (ora 20:00)\nStr. Muzeului\n\n\n7.\nAtelier de confecționat încălțăminte antică  (ora 20:00)\nStr. Muzeului\n\n\n8.\nȘcoala gladiatoria (ora 20:00)\nStr. Muzeului\n\n\n9.\nReenactement antic (ora 18:00)\nPoarta a IV a a Cetății\n\n\n10\nAtelier de plante medicinale (ora 20:00)\nStr. Muzeului\n\n\n11.\nPiesă de teatru antic (ora 19:00)\nStr. Muzeului
URL:https://mnuai.ro/eveniment/noaptea-cercetatorilor/
LOCATION:Cetatea Alba Carolina\, https://www.google.com/maps/place/Cetatea+Bastionar+Alba+Carolina\,+Alba+Iulia/@46.0683999\,23.5674897\,17z/data=!3m1!4b1!4m13!1m7!3m6!1s0x474ea80cce754875:0xe9b0f44e8e45cd05!2sAlba+Iulia!3b1!8m2!3d46.0732725!4d23.5804886!3m4!1s0x474ea7de5d42eb85:0xbe185543abbf0f5!8m2!3d46.0684719!4d23.5697636?hl=en\, Alba Iulia\, Alba\, România
CATEGORIES:Eveniment
ATTACH;FMTTYPE=image/jpeg:https://mnuai.ro/wp-content/uploads/2016/09/Noaptea_cercetatorilor.jpg
ORGANIZER;CN="Muzeul%20Na%C8%9Bional%20al%20Unirii%20Alba%20Iulia":MAILTO:contact@mnuai.ro
END:VEVENT
BEGIN:VEVENT
DTSTART;TZID=Europe/Bucharest:20160930T120000
DTEND;TZID=Europe/Bucharest:20161030T170000
DTSTAMP:20260421T055743
CREATED:20161025T122522Z
LAST-MODIFIED:20161027T124249Z
UID:1952-1475236800-1477846800@mnuai.ro
SUMMARY:Cărți sfinte\, sfinții cărților\, cărțile sfinților
DESCRIPTION:Vineri\, 30 septembrie\, la ora 12.00\, la Muzeul Național al Unirii din Alba Iulia\, va fi deschisă publicului expoziția Cărți sfinte\, sfinții cărților\, cărțile sfinților. \nOcazionat de Anul comemorativ al Sfântului Martir Antim Ivireanul și al tipografilor bisericești\, evenimentul începe seria manifestărilor culturale Museikon\, fiind o avanpremieră la inaugurarea noului muzeu de artă religioasă. \nOrganizată în colaborare cu Biblioteca Academiei Române – filiala Cluj-Napoca\, Biblioteca Sfântului Sinod\, București\, Institutul Teologic Romano-Catolic\, Alba Iulia\, Biblioteca Județeană Mureș\, Biblioteca Județeană „Astra”\, Sibiu\, și Muzeul Național de Istorie a Transilvaniei\, Cluj-Napoca\, expoziția valorifică în premieră colecția Museikon\, rezultată din unificarea patrimoniului de carte și icoane deținut anterior de Arhiepiscopia Ortodoxă a Alba Iuliei și Muzeul Național al Unirii. \nTitlul atrage atenția asupra caracterului sacru al tuturor cărților destinate uzului Bisericii\, precum și asupra recunoștinței pe care și-au câștigat-o unii dintre truditorii la realizarea lor\, recunoscuți de Biserică drept sfinți\, dar mai ales invită la admirarea unor cărți pe care acești sfinți le-au răsfoit cu propriile mâini. Căci printre exponate se numără volume care i-au aparținut Sfântului Antim Ivireanul însuși și Sfântului Martir Constantin Brâncoveanu. Cel din urmă este comemorat în expoziție – în calitate de donator al cărților tipărite pe cheltuiala proprie ori la îndemnul său – și prin prezența medaliei de aur bătute la 1713\, emisiune a monetăriei din Alba Iulia\, din care\, în colecții de pe teritoriul României\, se cunosc astăzi doar 2 exemplare. De asemenea\, dintre raritățile bibliofile extreme pot fi văzute Bucoavna tipărită la Alba Iulia în 1699\, altfel spus primul abecedar românesc\, păstrat în 3 exemplare\, și catehismul intitulat Pâinea pruncilor\, ultima tipăritură albaiuliană\, din 1702\, păstrat în 5 exemplare. \nUn aspect inedit semnalat de această expoziție este longevitatea modelelor preluate de pictori din paginile cărților de cult\, o gravură publicată în 1705 ce o ilustrează pe Maica Domnului dovedindu-se un izvod încă drag deopotrivă iconarilor și credincioșilor și la sfârșitul secolului al XVIII-lea. \nComponentă a programului de activități a proiectului Museikon – un nou muzeu al icoanei revitalizează o clădire monument istoric restaurată în Alba Iulia\, proiect finanțat din Granturile SEE și implementat de Consiliul Județean Alba în parteneriat cu Muzeul Național al Unirii din Alba Iulia\, Arhiepiscopia Ortodoxă a Alba Iuliei și Muzeul Universității din Bergen (Norvegia)\, expoziția va fi deschisă publicului în perioada 30 septembrie – 30 octombrie 2016.
URL:https://mnuai.ro/eveniment/carti-sfinte-sfintii-cartilor-cartile-sfintilor/
LOCATION:Muzeul Naţional al Unirii Alba Iulia
CATEGORIES:Expoziții
ATTACH;FMTTYPE=image/jpeg:https://mnuai.ro/wp-content/uploads/2016/10/afis-2016-septembrie-30-cartile-sfintilor.jpg
END:VEVENT
END:VCALENDAR